BEGIN:VCALENDAR
VERSION:2.0
PRODID:-//sakshamudyami.org - ECPv6.15.20//NONSGML v1.0//EN
CALSCALE:GREGORIAN
METHOD:PUBLISH
X-WR-CALNAME:sakshamudyami.org
X-ORIGINAL-URL:https://sakshamudyami.org
X-WR-CALDESC:Events for sakshamudyami.org
REFRESH-INTERVAL;VALUE=DURATION:PT1H
X-Robots-Tag:noindex
X-PUBLISHED-TTL:PT1H
BEGIN:VTIMEZONE
TZID:Asia/Kolkata
BEGIN:STANDARD
TZOFFSETFROM:+0530
TZOFFSETTO:+0530
TZNAME:IST
DTSTART:20250101T000000
END:STANDARD
END:VTIMEZONE
BEGIN:VEVENT
DTSTART;TZID=Asia/Kolkata:20260410T100000
DTEND;TZID=Asia/Kolkata:20260410T130000
DTSTAMP:20260420T214726
CREATED:20260418T010036Z
LAST-MODIFIED:20260418T010036Z
UID:394-1775815200-1775826000@sakshamudyami.org
SUMMARY:Skill & Technical Enablement
DESCRIPTION:Engineering and technical services
URL:https://sakshamudyami.org/latest-event/skill-technical-enablement/
LOCATION:Mumbai
END:VEVENT
END:VCALENDAR